BEGIN:VCALENDAR
VERSION:2.0
PRODID:-//EZ Angus Beef - ECPv6.15.20//NONSGML v1.0//EN
CALSCALE:GREGORIAN
METHOD:PUBLISH
X-WR-CALNAME:EZ Angus Beef
X-ORIGINAL-URL:https://ezangus.com
X-WR-CALDESC:Events for EZ Angus Beef
REFRESH-INTERVAL;VALUE=DURATION:PT1H
X-Robots-Tag:noindex
X-PUBLISHED-TTL:PT1H
BEGIN:VTIMEZONE
TZID:America/Chicago
BEGIN:DAYLIGHT
TZOFFSETFROM:-0600
TZOFFSETTO:-0500
TZNAME:CDT
DTSTART:20230312T080000
END:DAYLIGHT
BEGIN:STANDARD
TZOFFSETFROM:-0500
TZOFFSETTO:-0600
TZNAME:CST
DTSTART:20231105T070000
END:STANDARD
BEGIN:DAYLIGHT
TZOFFSETFROM:-0600
TZOFFSETTO:-0500
TZNAME:CDT
DTSTART:20240310T080000
END:DAYLIGHT
BEGIN:STANDARD
TZOFFSETFROM:-0500
TZOFFSETTO:-0600
TZNAME:CST
DTSTART:20241103T070000
END:STANDARD
BEGIN:DAYLIGHT
TZOFFSETFROM:-0600
TZOFFSETTO:-0500
TZNAME:CDT
DTSTART:20250309T080000
END:DAYLIGHT
BEGIN:STANDARD
TZOFFSETFROM:-0500
TZOFFSETTO:-0600
TZNAME:CST
DTSTART:20251102T070000
END:STANDARD
END:VTIMEZONE
BEGIN:VEVENT
DTSTART;TZID=America/Chicago:20240705T080000
DTEND;TZID=America/Chicago:20240705T133000
DTSTAMP:20260423T154057
CREATED:20240422T192222Z
LAST-MODIFIED:20240422T183200Z
UID:2586-1720166400-1720186200@ezangus.com
SUMMARY:Okmulgee Farmers' Market 7-5-2024
DESCRIPTION:
URL:https://ezangus.com/event/okmulgee-farmers-market-7-5-2024/
LOCATION:Okmulgee Farmers’ Market\, 6750 Fig Rd\, Okmulgee\, OK\, 74437\, United States
END:VEVENT
BEGIN:VEVENT
DTSTART;TZID=America/Chicago:20240703T080000
DTEND;TZID=America/Chicago:20240703T130000
DTSTAMP:20260423T154057
CREATED:20240513T174559Z
LAST-MODIFIED:20240513T174757Z
UID:2670-1719993600-1720011600@ezangus.com
SUMMARY:Wednesday Muskogee Farmer's Market 7-3-2024
DESCRIPTION:
URL:https://ezangus.com/event/muskogee-farmers-market-7-3-2024/
LOCATION:Muskogee Farmers’ Market\, 425 W Okmulgee Ave\, Muskogee\, OK\, 74401\, United States
END:VEVENT
BEGIN:VEVENT
DTSTART;TZID=America/Chicago:20240629T080000
DTEND;TZID=America/Chicago:20240629T120000
DTSTAMP:20260423T154057
CREATED:20240422T211739Z
LAST-MODIFIED:20240422T211824Z
UID:2622-1719648000-1719662400@ezangus.com
SUMMARY:Muskogee Farmer's Market 6-29-2024
DESCRIPTION:
URL:https://ezangus.com/event/muskogee-farmers-market-6-29-2024/
LOCATION:Muskogee Farmers’ Market\, 425 W Okmulgee Ave\, Muskogee\, OK\, 74401\, United States
END:VEVENT
BEGIN:VEVENT
DTSTART;TZID=America/Chicago:20240628T100000
DTEND;TZID=America/Chicago:20240628T120000
DTSTAMP:20260423T154057
CREATED:20240510T202227Z
LAST-MODIFIED:20240510T202402Z
UID:2639-1719568800-1719576000@ezangus.com
SUMMARY:Meat Sale at Midge & Millie's Coffee Shop - June 28 2024
DESCRIPTION:
URL:https://ezangus.com/event/meat-sale-at-midge-millies-coffee-shop-may-2024-copy/
LOCATION:Midge and Millie’s Coffee Shop & Booksellers\, 813 E 6th St\, Okmulgee\, OK\, 74447\, United States
END:VEVENT
BEGIN:VEVENT
DTSTART;TZID=America/Chicago:20240626T080000
DTEND;TZID=America/Chicago:20240626T130000
DTSTAMP:20260423T154057
CREATED:20240513T174050Z
LAST-MODIFIED:20240513T174336Z
UID:2661-1719388800-1719406800@ezangus.com
SUMMARY:Wednesday Muskogee Farmer's Market 6-26-2024
DESCRIPTION:
URL:https://ezangus.com/event/muskogee-farmers-market-6-2024-wed/
LOCATION:Muskogee Farmers’ Market\, 425 W Okmulgee Ave\, Muskogee\, OK\, 74401\, United States
END:VEVENT
BEGIN:VEVENT
DTSTART;TZID=America/Chicago:20240622T080000
DTEND;TZID=America/Chicago:20240622T120000
DTSTAMP:20260423T154057
CREATED:20240422T205944Z
LAST-MODIFIED:20240422T211710Z
UID:2612-1719043200-1719057600@ezangus.com
SUMMARY:Muskogee Farmer's Market 6-22-2024
DESCRIPTION:
URL:https://ezangus.com/event/muskogee-farmers-market-6-24-2024/
LOCATION:Muskogee Farmers’ Market\, 425 W Okmulgee Ave\, Muskogee\, OK\, 74401\, United States
END:VEVENT
BEGIN:VEVENT
DTSTART;TZID=America/Chicago:20240621T080000
DTEND;TZID=America/Chicago:20240621T133000
DTSTAMP:20260423T154057
CREATED:20240422T192140Z
LAST-MODIFIED:20240422T183155Z
UID:2579-1718956800-1718976600@ezangus.com
SUMMARY:Okmulgee Farmers' Market 6-21-2024
DESCRIPTION:
URL:https://ezangus.com/event/okmulgee-farmers-market-6-21-2024/
LOCATION:Okmulgee Farmers’ Market\, 6750 Fig Rd\, Okmulgee\, OK\, 74437\, United States
END:VEVENT
BEGIN:VEVENT
DTSTART;TZID=America/Chicago:20240619T080000
DTEND;TZID=America/Chicago:20240619T130000
DTSTAMP:20260423T154057
CREATED:20240513T181231Z
LAST-MODIFIED:20240513T181711Z
UID:2704-1718784000-1718802000@ezangus.com
SUMMARY:Wednesday Muskogee Farmer's Market 6-19-2024
DESCRIPTION:
URL:https://ezangus.com/event/muskogee-farmers-market-0619-2024/
LOCATION:Muskogee Farmers’ Market\, 425 W Okmulgee Ave\, Muskogee\, OK\, 74401\, United States
END:VEVENT
BEGIN:VEVENT
DTSTART;TZID=America/Chicago:20240615T080000
DTEND;TZID=America/Chicago:20240615T120000
DTSTAMP:20260423T154057
CREATED:20240422T205929Z
LAST-MODIFIED:20240422T211655Z
UID:2611-1718438400-1718452800@ezangus.com
SUMMARY:Muskogee Farmer's Market 6-15-2024
DESCRIPTION:
URL:https://ezangus.com/event/muskogee-farmers-market-6-15-2024/
LOCATION:Muskogee Farmers’ Market\, 425 W Okmulgee Ave\, Muskogee\, OK\, 74401\, United States
END:VEVENT
BEGIN:VEVENT
DTSTART;TZID=America/Chicago:20240614T100000
DTEND;TZID=America/Chicago:20240614T120000
DTSTAMP:20260423T154057
CREATED:20240510T202326Z
LAST-MODIFIED:20240510T202350Z
UID:2643-1718359200-1718366400@ezangus.com
SUMMARY:Meat Sale at Midge & Millie's Coffee Shop - June 14 2024
DESCRIPTION:
URL:https://ezangus.com/event/meat-sale-at-midge-millies-coffee-shop-may-2024-copy-4-copy/
LOCATION:Midge and Millie’s Coffee Shop & Booksellers\, 813 E 6th St\, Okmulgee\, OK\, 74447\, United States
END:VEVENT
BEGIN:VEVENT
DTSTART;TZID=America/Chicago:20240612T080000
DTEND;TZID=America/Chicago:20240612T130000
DTSTAMP:20260423T154057
CREATED:20240513T181241Z
LAST-MODIFIED:20240513T181724Z
UID:2705-1718179200-1718197200@ezangus.com
SUMMARY:Wednesday Muskogee Farmer's Market 6-12-2024
DESCRIPTION:
URL:https://ezangus.com/event/muskogee-farmers-market-0612-2024/
LOCATION:Muskogee Farmers’ Market\, 425 W Okmulgee Ave\, Muskogee\, OK\, 74401\, United States
END:VEVENT
BEGIN:VEVENT
DTSTART;TZID=America/Chicago:20240608T080000
DTEND;TZID=America/Chicago:20240608T120000
DTSTAMP:20260423T154057
CREATED:20240422T205756Z
LAST-MODIFIED:20240422T211640Z
UID:2608-1717833600-1717848000@ezangus.com
SUMMARY:Muskogee Farmer's Market 6-8-2024
DESCRIPTION:
URL:https://ezangus.com/event/muskogee-farmers-market-6-8-2024/
LOCATION:Muskogee Farmers’ Market\, 425 W Okmulgee Ave\, Muskogee\, OK\, 74401\, United States
END:VEVENT
BEGIN:VEVENT
DTSTART;TZID=America/Chicago:20240605T080000
DTEND;TZID=America/Chicago:20240605T130000
DTSTAMP:20260423T154057
CREATED:20240513T163713Z
LAST-MODIFIED:20240513T173844Z
UID:2650-1717574400-1717592400@ezangus.com
SUMMARY:Wednesday Muskogee Farmer's Market 6-5-2024
DESCRIPTION:
URL:https://ezangus.com/event/muskogee-farmers-market-6-8-2024-copy/
LOCATION:Muskogee Farmers’ Market\, 425 W Okmulgee Ave\, Muskogee\, OK\, 74401\, United States
END:VEVENT
BEGIN:VEVENT
DTSTART;TZID=America/Chicago:20240601T080000
DTEND;TZID=America/Chicago:20240601T120000
DTSTAMP:20260423T154057
CREATED:20240422T205946Z
LAST-MODIFIED:20240422T211625Z
UID:2613-1717228800-1717243200@ezangus.com
SUMMARY:Muskogee Farmer's Market 6-1-2024
DESCRIPTION:
URL:https://ezangus.com/event/muskogee-farmers-market-6-1-2024/
LOCATION:Muskogee Farmers’ Market\, 425 W Okmulgee Ave\, Muskogee\, OK\, 74401\, United States
END:VEVENT
BEGIN:VEVENT
DTSTART;TZID=America/Chicago:20240529T080000
DTEND;TZID=America/Chicago:20240529T130000
DTSTAMP:20260423T154057
CREATED:20240513T181250Z
LAST-MODIFIED:20240513T181522Z
UID:2706-1716969600-1716987600@ezangus.com
SUMMARY:Wednesday Muskogee Farmer's Market 5-29-2024
DESCRIPTION:
URL:https://ezangus.com/event/muskogee-farmers-market-0529-2024/
LOCATION:Muskogee Farmers’ Market\, 425 W Okmulgee Ave\, Muskogee\, OK\, 74401\, United States
END:VEVENT
BEGIN:VEVENT
DTSTART;TZID=America/Chicago:20240525T080000
DTEND;TZID=America/Chicago:20240525T120000
DTSTAMP:20260423T154057
CREATED:20240516T182323Z
LAST-MODIFIED:20240516T182411Z
UID:2716-1716624000-1716638400@ezangus.com
SUMMARY:Muskogee Farmer's Market - 5-25-2024
DESCRIPTION:
URL:https://ezangus.com/event/muskogee-farmers-market-5-25-2024/
LOCATION:Muskogee Farmers’ Market\, 425 W Okmulgee Ave\, Muskogee\, OK\, 74401\, United States
END:VEVENT
BEGIN:VEVENT
DTSTART;TZID=America/Chicago:20240524T100000
DTEND;TZID=America/Chicago:20240524T120000
DTSTAMP:20260423T154057
CREATED:20240510T202211Z
LAST-MODIFIED:20240510T202211Z
UID:2636-1716544800-1716552000@ezangus.com
SUMMARY:Meat Sale at Midge & Millie's Coffee Shop - May 2024
DESCRIPTION:
URL:https://ezangus.com/event/meat-sale-at-midge-millies-coffee-shop-may-2024/
LOCATION:Midge and Millie’s Coffee Shop & Booksellers\, 813 E 6th St\, Okmulgee\, OK\, 74447\, United States
END:VEVENT
BEGIN:VEVENT
DTSTART;TZID=America/Chicago:20240522T080000
DTEND;TZID=America/Chicago:20240522T130000
DTSTAMP:20260423T154057
CREATED:20240513T181341Z
LAST-MODIFIED:20240513T181453Z
UID:2707-1716364800-1716382800@ezangus.com
SUMMARY:Wednesday Muskogee Farmer's Market 5-22-2024
DESCRIPTION:
URL:https://ezangus.com/event/muskogee-farmers-market-052224/
LOCATION:Muskogee Farmers’ Market\, 425 W Okmulgee Ave\, Muskogee\, OK\, 74401\, United States
END:VEVENT
BEGIN:VEVENT
DTSTART;TZID=America/Chicago:20240515T080000
DTEND;TZID=America/Chicago:20240515T130000
DTSTAMP:20260423T154057
CREATED:20240513T171311Z
LAST-MODIFIED:20240513T180449Z
UID:2652-1715760000-1715778000@ezangus.com
SUMMARY:Wednesday Muskogee Farmer's Market 5-15-2024
DESCRIPTION:
URL:https://ezangus.com/event/muskogee-farmers-market-5-15-2024/
LOCATION:Muskogee Farmers’ Market\, 425 W Okmulgee Ave\, Muskogee\, OK\, 74401\, United States
END:VEVENT
BEGIN:VEVENT
DTSTART;TZID=America/Chicago:20240504T080000
DTEND;TZID=America/Chicago:20240504T120000
DTSTAMP:20260423T154057
CREATED:20240422T203818Z
LAST-MODIFIED:20240422T203959Z
UID:2602-1714809600-1714824000@ezangus.com
SUMMARY:Muskogee Farmer's Market - 5-4-2024
DESCRIPTION:
URL:https://ezangus.com/event/muskogee-farmers-market-5-4-2024/
LOCATION:Muskogee Farmers’ Market\, 425 W Okmulgee Ave\, Muskogee\, OK\, 74401\, United States
END:VEVENT
BEGIN:VEVENT
DTSTART;TZID=America/Chicago:20240427T080000
DTEND;TZID=America/Chicago:20240427T120000
DTSTAMP:20260423T154057
CREATED:20240422T185359Z
LAST-MODIFIED:20240422T190348Z
UID:2566-1714204800-1714219200@ezangus.com
SUMMARY:Muskogee Farmer's Market - 4/27
DESCRIPTION:
URL:https://ezangus.com/event/muskogee-farmers-market-4-27/
LOCATION:Muskogee Farmers’ Market\, 425 W Okmulgee Ave\, Muskogee\, OK\, 74401\, United States
END:VEVENT
END:VCALENDAR