BEGIN:VCALENDAR
VERSION:2.0
PRODID:-//EZ Angus Beef - ECPv6.15.20//NONSGML v1.0//EN
CALSCALE:GREGORIAN
METHOD:PUBLISH
X-ORIGINAL-URL:https://ezangus.com
X-WR-CALDESC:Events for EZ Angus Beef
REFRESH-INTERVAL;VALUE=DURATION:PT1H
X-Robots-Tag:noindex
X-PUBLISHED-TTL:PT1H
BEGIN:VTIMEZONE
TZID:America/Chicago
BEGIN:DAYLIGHT
TZOFFSETFROM:-0600
TZOFFSETTO:-0500
TZNAME:CDT
DTSTART:20230312T080000
END:DAYLIGHT
BEGIN:STANDARD
TZOFFSETFROM:-0500
TZOFFSETTO:-0600
TZNAME:CST
DTSTART:20231105T070000
END:STANDARD
BEGIN:DAYLIGHT
TZOFFSETFROM:-0600
TZOFFSETTO:-0500
TZNAME:CDT
DTSTART:20240310T080000
END:DAYLIGHT
BEGIN:STANDARD
TZOFFSETFROM:-0500
TZOFFSETTO:-0600
TZNAME:CST
DTSTART:20241103T070000
END:STANDARD
BEGIN:DAYLIGHT
TZOFFSETFROM:-0600
TZOFFSETTO:-0500
TZNAME:CDT
DTSTART:20250309T080000
END:DAYLIGHT
BEGIN:STANDARD
TZOFFSETFROM:-0500
TZOFFSETTO:-0600
TZNAME:CST
DTSTART:20251102T070000
END:STANDARD
END:VTIMEZONE
BEGIN:VEVENT
DTSTART;TZID=America/Chicago:20241026T080000
DTEND;TZID=America/Chicago:20241026T120000
DTSTAMP:20260423T102335
CREATED:20240516T184355Z
LAST-MODIFIED:20240516T184836Z
UID:2742-1729929600-1729944000@ezangus.com
SUMMARY:Muskogee Farmer's Market (Sat) 10-26-2024
DESCRIPTION:
URL:https://ezangus.com/event/muskogee-farmers-market-10-26-2024/
LOCATION:Muskogee Farmers’ Market\, 425 W Okmulgee Ave\, Muskogee\, OK\, 74401\, United States
END:VEVENT
BEGIN:VEVENT
DTSTART;TZID=America/Chicago:20241019T080000
DTEND;TZID=America/Chicago:20241019T120000
DTSTAMP:20260423T102335
CREATED:20240516T184342Z
LAST-MODIFIED:20240516T184818Z
UID:2741-1729324800-1729339200@ezangus.com
SUMMARY:Muskogee Farmer's Market (Sat) 10-19-2024
DESCRIPTION:
URL:https://ezangus.com/event/muskogee-farmers-market-10-19-2024/
LOCATION:Muskogee Farmers’ Market\, 425 W Okmulgee Ave\, Muskogee\, OK\, 74401\, United States
END:VEVENT
BEGIN:VEVENT
DTSTART;TZID=America/Chicago:20241012T080000
DTEND;TZID=America/Chicago:20241012T120000
DTSTAMP:20260423T102335
CREATED:20240516T184331Z
LAST-MODIFIED:20240516T184733Z
UID:2740-1728720000-1728734400@ezangus.com
SUMMARY:Muskogee Farmer's Market (Sat) 10-12-2024
DESCRIPTION:
URL:https://ezangus.com/event/muskogee-farmers-market-10-12-2024/
LOCATION:Muskogee Farmers’ Market\, 425 W Okmulgee Ave\, Muskogee\, OK\, 74401\, United States
END:VEVENT
BEGIN:VEVENT
DTSTART;TZID=America/Chicago:20241005T080000
DTEND;TZID=America/Chicago:20241005T120000
DTSTAMP:20260423T102335
CREATED:20240516T184306Z
LAST-MODIFIED:20240516T184945Z
UID:2739-1728115200-1728129600@ezangus.com
SUMMARY:Muskogee Farmer's Market (Sat) 10-5-2024
DESCRIPTION:
URL:https://ezangus.com/event/muskogee-farmers-market-10-5-2024/
LOCATION:Muskogee Farmers’ Market\, 425 W Okmulgee Ave\, Muskogee\, OK\, 74401\, United States
END:VEVENT
BEGIN:VEVENT
DTSTART;TZID=America/Chicago:20240928T080000
DTEND;TZID=America/Chicago:20240928T120000
DTSTAMP:20260423T102335
CREATED:20240516T184500Z
LAST-MODIFIED:20240516T185229Z
UID:2745-1727510400-1727524800@ezangus.com
SUMMARY:Muskogee Farmer's Market (Sat) 9-28-2024
DESCRIPTION:
URL:https://ezangus.com/event/muskogee-farmers-market-9-28-2024/
LOCATION:Muskogee Farmers’ Market\, 425 W Okmulgee Ave\, Muskogee\, OK\, 74401\, United States
END:VEVENT
BEGIN:VEVENT
DTSTART;TZID=America/Chicago:20240925T080000
DTEND;TZID=America/Chicago:20240925T130000
DTSTAMP:20260423T102335
CREATED:20240513T175222Z
LAST-MODIFIED:20240513T175359Z
UID:2690-1727251200-1727269200@ezangus.com
SUMMARY:Wednesday Muskogee Farmer's Market 9-25-2024
DESCRIPTION:
URL:https://ezangus.com/event/muskogee-farmers-market-9-25-2024/
LOCATION:Muskogee Farmers’ Market\, 425 W Okmulgee Ave\, Muskogee\, OK\, 74401\, United States
END:VEVENT
BEGIN:VEVENT
DTSTART;TZID=America/Chicago:20240921T080000
DTEND;TZID=America/Chicago:20240921T120000
DTSTAMP:20260423T102335
CREATED:20240516T184447Z
LAST-MODIFIED:20240516T185215Z
UID:2744-1726905600-1726920000@ezangus.com
SUMMARY:Muskogee Farmer's Market (Sat) 9-21-2024
DESCRIPTION:
URL:https://ezangus.com/event/muskogee-farmers-market-9-21-2024/
LOCATION:Muskogee Farmers’ Market\, 425 W Okmulgee Ave\, Muskogee\, OK\, 74401\, United States
END:VEVENT
BEGIN:VEVENT
DTSTART;TZID=America/Chicago:20240920T080000
DTEND;TZID=America/Chicago:20240920T130000
DTSTAMP:20260423T102335
CREATED:20240422T192216Z
LAST-MODIFIED:20240422T190828Z
UID:2585-1726819200-1726837200@ezangus.com
SUMMARY:Okmulgee Farmers' Market 9-20-2024
DESCRIPTION:
URL:https://ezangus.com/event/okmulgee-farmers-market-9-20-2024/
LOCATION:Okmulgee Farmers’ Market\, 6750 Fig Rd\, Okmulgee\, OK\, 74437\, United States
END:VEVENT
BEGIN:VEVENT
DTSTART;TZID=America/Chicago:20240918T080000
DTEND;TZID=America/Chicago:20240918T130000
DTSTAMP:20260423T102335
CREATED:20240513T175229Z
LAST-MODIFIED:20240513T175337Z
UID:2691-1726646400-1726664400@ezangus.com
SUMMARY:Wednesday Muskogee Farmer's Market 9-18-2024
DESCRIPTION:
URL:https://ezangus.com/event/muskogee-farmers-market-9182024/
LOCATION:Muskogee Farmers’ Market\, 425 W Okmulgee Ave\, Muskogee\, OK\, 74401\, United States
END:VEVENT
BEGIN:VEVENT
DTSTART;TZID=America/Chicago:20240914T080000
DTEND;TZID=America/Chicago:20240914T120000
DTSTAMP:20260423T102335
CREATED:20240516T184412Z
LAST-MODIFIED:20240516T185201Z
UID:2743-1726300800-1726315200@ezangus.com
SUMMARY:Muskogee Farmer's Market (Sat) 9-14-2024
DESCRIPTION:
URL:https://ezangus.com/event/muskogee-farmers-market-9-14-2024/
LOCATION:Muskogee Farmers’ Market\, 425 W Okmulgee Ave\, Muskogee\, OK\, 74401\, United States
END:VEVENT
BEGIN:VEVENT
DTSTART;TZID=America/Chicago:20240911T080000
DTEND;TZID=America/Chicago:20240911T130000
DTSTAMP:20260423T102335
CREATED:20240513T175237Z
LAST-MODIFIED:20240513T175323Z
UID:2692-1726041600-1726059600@ezangus.com
SUMMARY:Wednesday Muskogee Farmer's Market 9-11-2024
DESCRIPTION:
URL:https://ezangus.com/event/muskogee-farmers-market-9112024/
LOCATION:Muskogee Farmers’ Market\, 425 W Okmulgee Ave\, Muskogee\, OK\, 74401\, United States
END:VEVENT
BEGIN:VEVENT
DTSTART;TZID=America/Chicago:20240907T080000
DTEND;TZID=America/Chicago:20240907T120000
DTSTAMP:20260423T102335
CREATED:20240516T184204Z
LAST-MODIFIED:20240516T184241Z
UID:2737-1725696000-1725710400@ezangus.com
SUMMARY:Muskogee Farmer's Market (Sat) 9-7-2024
DESCRIPTION:
URL:https://ezangus.com/event/muskogee-farmers-market-9-7-2024/
LOCATION:Muskogee Farmers’ Market\, 425 W Okmulgee Ave\, Muskogee\, OK\, 74401\, United States
END:VEVENT
BEGIN:VEVENT
DTSTART;TZID=America/Chicago:20240906T080000
DTEND;TZID=America/Chicago:20240906T133000
DTSTAMP:20260423T102335
CREATED:20240422T192210Z
LAST-MODIFIED:20240422T183224Z
UID:2584-1725609600-1725629400@ezangus.com
SUMMARY:Okmulgee Farmers' Market 9-6-2024
DESCRIPTION:
URL:https://ezangus.com/event/okmulgee-farmers-market-9-6-2024/
LOCATION:Okmulgee Farmers’ Market\, 6750 Fig Rd\, Okmulgee\, OK\, 74437\, United States
END:VEVENT
BEGIN:VEVENT
DTSTART;TZID=America/Chicago:20240904T080000
DTEND;TZID=America/Chicago:20240904T130000
DTSTAMP:20260423T102335
CREATED:20240513T175214Z
LAST-MODIFIED:20240513T175307Z
UID:2689-1725436800-1725454800@ezangus.com
SUMMARY:Wednesday Muskogee Farmer's Market 9-4-2024
DESCRIPTION:
URL:https://ezangus.com/event/muskogee-farmers-market-942024/
LOCATION:Muskogee Farmers’ Market\, 425 W Okmulgee Ave\, Muskogee\, OK\, 74401\, United States
END:VEVENT
BEGIN:VEVENT
DTSTART;TZID=America/Chicago:20240831T080000
DTEND;TZID=America/Chicago:20240831T120000
DTSTAMP:20260423T102335
CREATED:20240516T183917Z
LAST-MODIFIED:20240516T184140Z
UID:2732-1725091200-1725105600@ezangus.com
SUMMARY:Muskogee Farmer's Market (Sat) 8-31-2024
DESCRIPTION:
URL:https://ezangus.com/event/muskogee-farmers-market-8-31-2024/
LOCATION:Muskogee Farmers’ Market\, 425 W Okmulgee Ave\, Muskogee\, OK\, 74401\, United States
END:VEVENT
BEGIN:VEVENT
DTSTART;TZID=America/Chicago:20240828T080000
DTEND;TZID=America/Chicago:20240828T130000
DTSTAMP:20260423T102335
CREATED:20240513T174941Z
LAST-MODIFIED:20240513T175211Z
UID:2680-1724832000-1724850000@ezangus.com
SUMMARY:Wednesday Muskogee Farmer's Market 8-28-2024
DESCRIPTION:
URL:https://ezangus.com/event/muskogee-farmers-market-8-28-2024/
LOCATION:Muskogee Farmers’ Market\, 425 W Okmulgee Ave\, Muskogee\, OK\, 74401\, United States
END:VEVENT
BEGIN:VEVENT
DTSTART;TZID=America/Chicago:20240824T080000
DTEND;TZID=America/Chicago:20240824T120000
DTSTAMP:20260423T102335
CREATED:20240516T183901Z
LAST-MODIFIED:20240516T184128Z
UID:2731-1724486400-1724500800@ezangus.com
SUMMARY:Muskogee Farmer's Market (Sat) 8-24-2024
DESCRIPTION:
URL:https://ezangus.com/event/muskogee-farmers-market-8-24-2024/
LOCATION:Muskogee Farmers’ Market\, 425 W Okmulgee Ave\, Muskogee\, OK\, 74401\, United States
END:VEVENT
BEGIN:VEVENT
DTSTART;TZID=America/Chicago:20240821T080000
DTEND;TZID=America/Chicago:20240821T130000
DTSTAMP:20260423T102335
CREATED:20240513T174948Z
LAST-MODIFIED:20240513T175118Z
UID:2681-1724227200-1724245200@ezangus.com
SUMMARY:Wednesday Muskogee Farmer's Market 8-21-2024
DESCRIPTION:
URL:https://ezangus.com/event/muskogee-farmers-market-8-21-2024/
LOCATION:Muskogee Farmers’ Market\, 425 W Okmulgee Ave\, Muskogee\, OK\, 74401\, United States
END:VEVENT
BEGIN:VEVENT
DTSTART;TZID=America/Chicago:20240817T080000
DTEND;TZID=America/Chicago:20240817T120000
DTSTAMP:20260423T102335
CREATED:20240516T183851Z
LAST-MODIFIED:20240516T184107Z
UID:2730-1723881600-1723896000@ezangus.com
SUMMARY:Muskogee Farmer's Market (Sat) 8-17-2024
DESCRIPTION:
URL:https://ezangus.com/event/muskogee-farmers-market-8-17-2024/
LOCATION:Muskogee Farmers’ Market\, 425 W Okmulgee Ave\, Muskogee\, OK\, 74401\, United States
END:VEVENT
BEGIN:VEVENT
DTSTART;TZID=America/Chicago:20240816T080000
DTEND;TZID=America/Chicago:20240816T133000
DTSTAMP:20260423T102335
CREATED:20240422T192205Z
LAST-MODIFIED:20240422T183219Z
UID:2583-1723795200-1723815000@ezangus.com
SUMMARY:Okmulgee Farmers' Market 8-16-2024
DESCRIPTION:
URL:https://ezangus.com/event/okmulgee-farmers-market-8-16-2024/
LOCATION:Okmulgee Farmers’ Market\, 6750 Fig Rd\, Okmulgee\, OK\, 74437\, United States
END:VEVENT
BEGIN:VEVENT
DTSTART;TZID=America/Chicago:20240814T080000
DTEND;TZID=America/Chicago:20240814T130000
DTSTAMP:20260423T102335
CREATED:20240513T174955Z
LAST-MODIFIED:20240513T175052Z
UID:2682-1723622400-1723640400@ezangus.com
SUMMARY:Wednesday Muskogee Farmer's Market 8-14-2024
DESCRIPTION:
URL:https://ezangus.com/event/muskogee-farmers-market-8-14-2024/
LOCATION:Muskogee Farmers’ Market\, 425 W Okmulgee Ave\, Muskogee\, OK\, 74401\, United States
END:VEVENT
BEGIN:VEVENT
DTSTART;TZID=America/Chicago:20240810T080000
DTEND;TZID=America/Chicago:20240810T120000
DTSTAMP:20260423T102335
CREATED:20240516T183839Z
LAST-MODIFIED:20240516T184054Z
UID:2729-1723276800-1723291200@ezangus.com
SUMMARY:Muskogee Farmer's Market (Sat) 8-10-2024
DESCRIPTION:
URL:https://ezangus.com/event/muskogee-farmers-market-8-10-2024/
LOCATION:Muskogee Farmers’ Market\, 425 W Okmulgee Ave\, Muskogee\, OK\, 74401\, United States
END:VEVENT
BEGIN:VEVENT
DTSTART;TZID=America/Chicago:20240807T080000
DTEND;TZID=America/Chicago:20240807T130000
DTSTAMP:20260423T102335
CREATED:20240513T175001Z
LAST-MODIFIED:20240513T175035Z
UID:2683-1723017600-1723035600@ezangus.com
SUMMARY:Wednesday Muskogee Farmer's Market 8-7-2024
DESCRIPTION:
URL:https://ezangus.com/event/muskogee-farmers-market-8-7-2024/
LOCATION:Muskogee Farmers’ Market\, 425 W Okmulgee Ave\, Muskogee\, OK\, 74401\, United States
END:VEVENT
BEGIN:VEVENT
DTSTART;TZID=America/Chicago:20240803T080000
DTEND;TZID=America/Chicago:20240803T120000
DTSTAMP:20260423T102335
CREATED:20240516T183640Z
LAST-MODIFIED:20240516T183737Z
UID:2726-1722672000-1722686400@ezangus.com
SUMMARY:Muskogee Farmer's Market (Sat) 8-3-2024
DESCRIPTION:
URL:https://ezangus.com/event/muskogee-farmers-market-8-3-2024/
LOCATION:Muskogee Farmers’ Market\, 425 W Okmulgee Ave\, Muskogee\, OK\, 74401\, United States
END:VEVENT
BEGIN:VEVENT
DTSTART;TZID=America/Chicago:20240802T080000
DTEND;TZID=America/Chicago:20240802T133000
DTSTAMP:20260423T102335
CREATED:20240422T192158Z
LAST-MODIFIED:20240422T183214Z
UID:2582-1722585600-1722605400@ezangus.com
SUMMARY:Okmulgee Farmers' Market 8-2-2024
DESCRIPTION:
URL:https://ezangus.com/event/okmulgee-farmers-market-8-2-2024/
LOCATION:Okmulgee Farmers’ Market\, 6750 Fig Rd\, Okmulgee\, OK\, 74437\, United States
END:VEVENT
BEGIN:VEVENT
DTSTART;TZID=America/Chicago:20240731T080000
DTEND;TZID=America/Chicago:20240731T130000
DTSTAMP:20260423T102335
CREATED:20240513T174636Z
LAST-MODIFIED:20240513T174845Z
UID:2671-1722412800-1722430800@ezangus.com
SUMMARY:Wednesday Muskogee Farmer's Market 7-31-2024
DESCRIPTION:
URL:https://ezangus.com/event/muskogee-farmers-market-6-8-2024-copy-copy-copy/
LOCATION:Muskogee Farmers’ Market\, 425 W Okmulgee Ave\, Muskogee\, OK\, 74401\, United States
END:VEVENT
BEGIN:VEVENT
DTSTART;TZID=America/Chicago:20240727T080000
DTEND;TZID=America/Chicago:20240727T120000
DTSTAMP:20260423T102335
CREATED:20240516T183457Z
LAST-MODIFIED:20240516T183633Z
UID:2720-1722067200-1722081600@ezangus.com
SUMMARY:Muskogee Farmer's Market (Sat) 7-27-2024
DESCRIPTION:
URL:https://ezangus.com/event/muskogee-farmers-market-7-27-2024/
LOCATION:Muskogee Farmers’ Market\, 425 W Okmulgee Ave\, Muskogee\, OK\, 74401\, United States
END:VEVENT
BEGIN:VEVENT
DTSTART;TZID=America/Chicago:20240726T100000
DTEND;TZID=America/Chicago:20240726T120000
DTSTAMP:20260423T102335
CREATED:20240510T202244Z
LAST-MODIFIED:20240510T202440Z
UID:2641-1721988000-1721995200@ezangus.com
SUMMARY:Meat Sale at Midge & Millie's Coffee Shop - July 26 2024
DESCRIPTION:
URL:https://ezangus.com/event/meat-sale-at-midge-millies-coffee-shop-may-2024-copy-3/
LOCATION:Midge and Millie’s Coffee Shop & Booksellers\, 813 E 6th St\, Okmulgee\, OK\, 74447\, United States
END:VEVENT
BEGIN:VEVENT
DTSTART;TZID=America/Chicago:20240724T080000
DTEND;TZID=America/Chicago:20240724T130000
DTSTAMP:20260423T102335
CREATED:20240513T174643Z
LAST-MODIFIED:20240513T174830Z
UID:2672-1721808000-1721826000@ezangus.com
SUMMARY:Wednesday Muskogee Farmer's Market 7-24-2024
DESCRIPTION:
URL:https://ezangus.com/event/muskogee-farmers-market-6-8-2024-copy-copy-2-copy/
LOCATION:Muskogee Farmers’ Market\, 425 W Okmulgee Ave\, Muskogee\, OK\, 74401\, United States
END:VEVENT
BEGIN:VEVENT
DTSTART;TZID=America/Chicago:20240720T080000
DTEND;TZID=America/Chicago:20240720T120000
DTSTAMP:20260423T102335
CREATED:20240516T183510Z
LAST-MODIFIED:20240516T183618Z
UID:2721-1721462400-1721476800@ezangus.com
SUMMARY:Muskogee Farmer's Market (Sat) 7-20-2024
DESCRIPTION:
URL:https://ezangus.com/event/muskogee-farmers-market-7-20-2024/
LOCATION:Muskogee Farmers’ Market\, 425 W Okmulgee Ave\, Muskogee\, OK\, 74401\, United States
END:VEVENT
END:VCALENDAR